BEGIN:VCALENDAR
VERSION:2.0
PRODID:-//Cambridge Radio - ECPv5.7.0//NONSGML v1.0//EN
CALSCALE:GREGORIAN
METHOD:PUBLISH
X-WR-CALNAME:Cambridge Radio
X-ORIGINAL-URL:https://cambridge105.co.uk
X-WR-CALDESC:Events for Cambridge Radio
BEGIN:VTIMEZONE
TZID:Europe/London
BEGIN:DAYLIGHT
TZOFFSETFROM:+0000
TZOFFSETTO:+0100
TZNAME:BST
DTSTART:20240331T010000
END:DAYLIGHT
BEGIN:STANDARD
TZOFFSETFROM:+0100
TZOFFSETTO:+0000
TZNAME:GMT
DTSTART:20241027T010000
END:STANDARD
END:VTIMEZONE
BEGIN:VEVENT
DTSTART;VALUE=DATE:20241023
DTEND;VALUE=DATE:20241023
DTSTAMP:20260424T221650
CREATED:20241001T083039Z
LAST-MODIFIED:20241001T083104Z
UID:93767-1729641600-1729727999@cambridge105.co.uk
SUMMARY:Hell's Kitchen Halloween Event
DESCRIPTION:Hell’s Kitchen returns to Cambridge with a Halloween-themed hip-hop & R&B this October! \nDress up with your favourite costume and prepare for bone-chilling performances from Sofia and Mykal Magenta! \n£5 ADV / £7 OTD \nPerformances followed up by a DJ set until 1:00am! (£4 OTD after 10:00pm) \nHappy Hour from 7 – 8pm: \n£4 Single + Mixer | £5 Pints | 3 for £10 Jägerbombs
URL:https://cambridge105.co.uk/event/hells-kitchen-halloween-event/
LOCATION:Six Six Bar\, 170 East Road\, Cambridge\, CB1 1DB
END:VEVENT
END:VCALENDAR