BEGIN:VCALENDAR
VERSION:2.0
PRODID:-//Cambridge Radio - ECPv5.7.0//NONSGML v1.0//EN
CALSCALE:GREGORIAN
METHOD:PUBLISH
X-WR-CALNAME:Cambridge Radio
X-ORIGINAL-URL:https://cambridge105.co.uk
X-WR-CALDESC:Events for Cambridge Radio
BEGIN:VTIMEZONE
TZID:Europe/London
BEGIN:DAYLIGHT
TZOFFSETFROM:+0000
TZOFFSETTO:+0100
TZNAME:BST
DTSTART:20260329T010000
END:DAYLIGHT
BEGIN:STANDARD
TZOFFSETFROM:+0100
TZOFFSETTO:+0000
TZNAME:GMT
DTSTART:20261025T010000
END:STANDARD
END:VTIMEZONE
BEGIN:VEVENT
DTSTART;VALUE=DATE:20260421
DTEND;VALUE=DATE:20260421
DTSTAMP:20260422T163447
CREATED:20260219T080132Z
LAST-MODIFIED:20260219T080132Z
UID:101000-1776729600-1776815999@cambridge105.co.uk
SUMMARY:Harry Enfield and No Chums
DESCRIPTION:A rare and entertaining evening with legendary satirical comedian and self-styled “stupid idiot”\, Harry Enfield. \nFrom the meteoric rise of Loadsamoney\, a Thatcherite Visionary\, to the fury of Kevin the Teenager\, Harry will reflect on 40 years of arsing about in comedy and bring some of his favourite characters vividly back to life on stage. \nThen it’s over to your questions: your chance to ask how it all works for him\, what he’s most proud of\, and what he says to the many who ask\, “You wouldn’t be allowed to do your stuff today\, would you?” \nDon’t miss an unforgettable evening with a brilliantly silly and strikingly insightful comedian.c \nAlmost full \n19:30 \nCost – £33.00 – £53.00 (Including booking fee) \nFor info go to https://www.cornex.co.uk/events/harry-enfield-and-no-chums-2
URL:https://cambridge105.co.uk/event/harry-enfield-and-no-chums/
LOCATION:Cambridge Corn Exchange\, 2 Wheeler Street\, Cambridge\, Cambridgeshire\, CB2 3QB\, United Kingdom
END:VEVENT
END:VCALENDAR