BEGIN:VCALENDAR
VERSION:2.0
PRODID:-//Cambridge Radio - ECPv5.7.0//NONSGML v1.0//EN
CALSCALE:GREGORIAN
METHOD:PUBLISH
X-WR-CALNAME:Cambridge Radio
X-ORIGINAL-URL:https://cambridge105.co.uk
X-WR-CALDESC:Events for Cambridge Radio
BEGIN:VTIMEZONE
TZID:Europe/London
BEGIN:DAYLIGHT
TZOFFSETFROM:+0000
TZOFFSETTO:+0100
TZNAME:BST
DTSTART:20250330T010000
END:DAYLIGHT
BEGIN:STANDARD
TZOFFSETFROM:+0100
TZOFFSETTO:+0000
TZNAME:GMT
DTSTART:20251026T010000
END:STANDARD
END:VTIMEZONE
BEGIN:VEVENT
DTSTART;VALUE=DATE:20251025
DTEND;VALUE=DATE:20251104
DTSTAMP:20260422T171841
CREATED:20250925T111718Z
LAST-MODIFIED:20251012T172438Z
UID:99182-1761350400-1762131599@cambridge105.co.uk
SUMMARY:Halloween Trail at Anglesey Abbey
DESCRIPTION:The  Halloween trail returns this year – with even more riddles and clues to solve! \nCome along for an immersive adventure where there will be plenty of new spooky challenges along the way\, and fun for the whole family. Take part this October half term from Saturday 25 October to Sunday 2 November. \nThe story continues with new activities and games along the trail. Pick up a trail sheet and see if you can help Wanda the Witch’s friendly cat\, Luna\, find her way through the enchanted forest… \nBooking is advised to avoid disappointment. Trails are £6 per child\, which includes a prize at the end of the trail. There will also be a limited number of tickets available to purchase on the day. Please arrive at the visitor centre with enough time to reach the trail. Your ticket time is your trail start time slot\, so we advise arriving at the visitor centre at least 10 minutes before the time on your ticket. Please note that normal admission applies. \nSuitability\nSuitable for all ages (some adult help with challenges may be required) \nMeeting point – Head to the visitor centre to pick up or purchase your tickets. Then head to the Woodland Walk at your designated timeslot to begin your adventure. What to bring and wear. Please dress appropriately for the weather on the day\, wrap up warm and wear suitable footwear. \nVarious time slots can be booked on each day – to book your slot click here
URL:https://cambridge105.co.uk/event/halloween-trail-at-anglesey-abbey/
LOCATION:Anglesey Abbey\, Quy Road\, Lode\, Cambridge\, Cambridgeshire\, CB25 9EJ\, United Kingdom
END:VEVENT
END:VCALENDAR