BEGIN:VCALENDAR
VERSION:2.0
PRODID:-//Cambridge Radio - ECPv5.7.0//NONSGML v1.0//EN
CALSCALE:GREGORIAN
METHOD:PUBLISH
X-WR-CALNAME:Cambridge Radio
X-ORIGINAL-URL:https://cambridge105.co.uk
X-WR-CALDESC:Events for Cambridge Radio
BEGIN:VTIMEZONE
TZID:Europe/London
BEGIN:DAYLIGHT
TZOFFSETFROM:+0000
TZOFFSETTO:+0100
TZNAME:BST
DTSTART:20250330T010000
END:DAYLIGHT
BEGIN:STANDARD
TZOFFSETFROM:+0100
TZOFFSETTO:+0000
TZNAME:GMT
DTSTART:20251026T010000
END:STANDARD
END:VTIMEZONE
BEGIN:VEVENT
DTSTART;TZID=Europe/London:20251023T070000
DTEND;TZID=Europe/London:20251102T170000
DTSTAMP:20260422T171021
CREATED:20251024T135913Z
LAST-MODIFIED:20251024T140158Z
UID:99544-1761202800-1762102800@cambridge105.co.uk
SUMMARY:Halloween at Wimpole Hall
DESCRIPTION:This Halloween\, Wimpole comes alive with a series of chilling scenes and glowing spectacles. Brave the trail and uncover: \n– A Spider Tunnel tangled with webs and lurking surprises \n– A Possessed Pumpkin Farm glowing with sinister grins \n– A warped and wonderful Laser Garden \n– Interactive Selfie Stocks & Cages—for the brave only \nFiendish Food & Wicked Treats\nFuel up between frights with tasty Halloween treats for all ages. From bewitched burgers and freaky fries to devilishly decadent hot chocolate and fiendishly good hot toddies\, there’s something to satisfy every ghost and ghoul. \nA Frightfully Fun Halloween for All Ages\nIdeal for families\, friends\, and couples seeking Halloween activity ideas or spooky events\, Wimpole’s Halloween trail promises a night you’ll never forget. Whether you’re local to Cambridge or Bedford\, or surrounding Cambridgeshire and Bedfordshire\, this is one of the best Halloween events to explore this autumn. \nSpots are limited and entry is timed – book early to secure your preferred date for this unforgettable Halloween event near Cambridge. \nFor info go to https://www.nationaltrust.org.uk/visit
URL:https://cambridge105.co.uk/event/halloween-at-wimpole-hall/
LOCATION:Wimpole Estate\, Arrington\, Royston\, SG8 0BW
END:VEVENT
END:VCALENDAR