BEGIN:VCALENDAR
VERSION:2.0
PRODID:-//Cambridge Radio - ECPv5.7.0//NONSGML v1.0//EN
CALSCALE:GREGORIAN
METHOD:PUBLISH
X-WR-CALNAME:Cambridge Radio
X-ORIGINAL-URL:https://cambridge105.co.uk
X-WR-CALDESC:Events for Cambridge Radio
BEGIN:VTIMEZONE
TZID:Europe/London
BEGIN:DAYLIGHT
TZOFFSETFROM:+0000
TZOFFSETTO:+0100
TZNAME:BST
DTSTART:20250330T010000
END:DAYLIGHT
BEGIN:STANDARD
TZOFFSETFROM:+0100
TZOFFSETTO:+0000
TZNAME:GMT
DTSTART:20251026T010000
END:STANDARD
END:VTIMEZONE
BEGIN:VEVENT
DTSTART;TZID=Europe/London:20250119T150000
DTEND;TZID=Europe/London:20250119T161500
DTSTAMP:20260423T184523
CREATED:20241125T095354Z
LAST-MODIFIED:20250112T111003Z
UID:94527-1737298800-1737303300@cambridge105.co.uk
SUMMARY:Fretwork - Classical Concert at Stapleford Granary
DESCRIPTION:Richard Boothby\, Emilia Benjamin\, Joanna Levine\, Sam Stadlen & Jonathan Rees\, viols. \nOrlando Gibbons – Two In Nomines in 5 parts/ Thomas Lupo – Fantasia No. 1 in 5 parts; Fantasia No. 29 in 5 parts/Gibbons – Two Fantasies in 3 parts; Fantasy for ye great dooble bass No. 1/Lupo – Fantasia for three basses; Fantasia for three trebles; Fantasia No. 27 in 5 parts/Gibbons – Two Fantasies for two treble viols; Two Fantasies in 3 parts; Fantasy for ye great dooble bass No. 2; In Nomine in 4 parts; In Nomine in 5 parts\, The Cries of London. \nOver 35 years\, Fretwork have performed the core repertory of great English consort music and have recorded over 70 albums. \nConcert 3:00pm\, ends 4:15pm\, no interval \nTickets £24 / £12 (under 25). \nFor info go to Stapleford Granary
URL:https://cambridge105.co.uk/event/fretwork-classical-concert-at-stapleford-granary/
LOCATION:Stapleford Granary\, Bury Road\, Stapleford\, CB22 5BP
END:VEVENT
END:VCALENDAR