BEGIN:VCALENDAR
VERSION:2.0
PRODID:-//Cambridge Radio - ECPv5.7.0//NONSGML v1.0//EN
CALSCALE:GREGORIAN
METHOD:PUBLISH
X-WR-CALNAME:Cambridge Radio
X-ORIGINAL-URL:https://cambridge105.co.uk
X-WR-CALDESC:Events for Cambridge Radio
BEGIN:VTIMEZONE
TZID:Europe/London
BEGIN:DAYLIGHT
TZOFFSETFROM:+0000
TZOFFSETTO:+0100
TZNAME:BST
DTSTART:20240331T010000
END:DAYLIGHT
BEGIN:STANDARD
TZOFFSETFROM:+0100
TZOFFSETTO:+0000
TZNAME:GMT
DTSTART:20241027T010000
END:STANDARD
END:VTIMEZONE
BEGIN:VEVENT
DTSTART;VALUE=DATE:20241010
DTEND;VALUE=DATE:20241010
DTSTAMP:20260424T101905
CREATED:20240920T111309Z
LAST-MODIFIED:20240920T111337Z
UID:93633-1728518400-1728604799@cambridge105.co.uk
SUMMARY:Free Talk on Inflammation Research
DESCRIPTION:Do you want to find out the latest findings in researchers’ inflammation research? And how this could help in the understanding and treatment of a range of health conditions that result when inflammation goes wrong?\n\nMake a date in your diaries and book your places now for a free public open afternoon and evening on Thursday 10th October\, at the Frank Lee Centre (Hexagon Room) on the Cambridge Biomedical Campus\, where you’ll hear from  researchers Dr Bina Patel\, Prof Menna Clatworthy and Prof Clare Elizabeth Bryant as they discuss some of their latest research in inflammation.\n\nTalk titles: ‘Reducing Inflammation in Parkinson’s patients’\, ‘Is inflammation in the gut and the brain linked?’ and ‘How fasting may project your body against inflammation’\n\nThere are a choice of two sessions (talks are repeated with a new audience) – either in the afternoon (4-5pm) or evening (6-7pm) so\, you only need to book one session.\n\nWhether you choose to come for the afternoon or evening talks\, you are welcome to spend the hour from 5-6pm chatting to our researchers about their work and view the research posters on display or simply come for the talk.\n\nFor more info contact Contact Georgina gan23@cam.ac.uk
URL:https://cambridge105.co.uk/event/free-talk-on-infammation-research/
LOCATION:Frank Lee Centre\, Addenbrookes Hospital\, Hills Road\, Cambridge\, CB2 0SN
END:VEVENT
END:VCALENDAR