BEGIN:VCALENDAR
VERSION:2.0
PRODID:-//Cambridge Radio - ECPv5.7.0//NONSGML v1.0//EN
CALSCALE:GREGORIAN
METHOD:PUBLISH
X-WR-CALNAME:Cambridge Radio
X-ORIGINAL-URL:https://cambridge105.co.uk
X-WR-CALDESC:Events for Cambridge Radio
BEGIN:VTIMEZONE
TZID:Europe/London
BEGIN:DAYLIGHT
TZOFFSETFROM:+0000
TZOFFSETTO:+0100
TZNAME:BST
DTSTART:20260329T010000
END:DAYLIGHT
BEGIN:STANDARD
TZOFFSETFROM:+0100
TZOFFSETTO:+0000
TZNAME:GMT
DTSTART:20261025T010000
END:STANDARD
END:VTIMEZONE
BEGIN:VEVENT
DTSTART;VALUE=DATE:20260317
DTEND;VALUE=DATE:20260319
DTSTAMP:20260424T141951
CREATED:20260130T103445Z
LAST-MODIFIED:20260130T103445Z
UID:100776-1773709200-1773795599@cambridge105.co.uk
SUMMARY:Free Concert - Richard Strauss\, A Celebration
DESCRIPTION:Artistic Director Isaac Chan joins two wonderful soloists\, Tara Spencer and alumna Doraly Gill\, to perform Richard Strauss’ youthful Violin Sonata and his valedictory Four Last Songs. \nThe Cambridge University Lunchtime Concert series offers a vibrant stage for students and local performers. Open to the public every Tuesday during the University of Cambridge term\, these complimentary concerts are well attended. CULCs are curated by a student committee and supported by the Centre for Music Performance. \nProgramme – R. Strauss – Sonata for Violin & Piano\, Op.18/ R. Strauss – Four Last Songs \nPerformers – Tara Spencer – violin/ Isaac Chan – piano/ Doraly Gill – mezzo-soprano \nFree – no need to book \nFor info go to https://www.westroad.org/whats-on/richard-strauss-a-celebration
URL:https://cambridge105.co.uk/event/free-concert-richard-strauss-a-celebration/
LOCATION:West Road Concert Hall\, 11 West Road\, Cambridge\, Cambridgeshire\, CB3 9DP\, United Kingdom
END:VEVENT
END:VCALENDAR