BEGIN:VCALENDAR
VERSION:2.0
PRODID:-//Cambridge Radio - ECPv5.7.0//NONSGML v1.0//EN
CALSCALE:GREGORIAN
METHOD:PUBLISH
X-WR-CALNAME:Cambridge Radio
X-ORIGINAL-URL:https://cambridge105.co.uk
X-WR-CALDESC:Events for Cambridge Radio
BEGIN:VTIMEZONE
TZID:Europe/London
BEGIN:DAYLIGHT
TZOFFSETFROM:+0000
TZOFFSETTO:+0100
TZNAME:BST
DTSTART:20240331T010000
END:DAYLIGHT
BEGIN:STANDARD
TZOFFSETFROM:+0100
TZOFFSETTO:+0000
TZNAME:GMT
DTSTART:20241027T010000
END:STANDARD
END:VTIMEZONE
BEGIN:VEVENT
DTSTART;VALUE=DATE:20240706
DTEND;VALUE=DATE:20240706
DTSTAMP:20260422T002721
CREATED:20240604T121711Z
LAST-MODIFIED:20240604T121758Z
UID:92184-1720224000-1720310399@cambridge105.co.uk
SUMMARY:Enrico Tomassi's Dixieland All Stars at Stapleford Granary
DESCRIPTION:Enrico Tomasso\, trumpet & vocals | Malcolm Earle Smith\, trombone | Mark Crooks\, clarinet | Joe Webb\, piano | Harry Sankey\, rhythm guitar | Simon Thorpe\, double bass | Matt Skelton\, drums. \nThis all-star group had been specially assembled to celebrate the best of Dixieland and Chicago Jazz. From the music of King Oliver to Bix Beiderbecke and Eddie Condon\, enjoy Dixieland favourites led by the trumpet and vocal stylings of ‘Britain’s Louis Armstrong’ Enrico Tomasso. \nOutdoor bar\, Pimms Bar & BBQ open 6:00pm | Concert 7:30pm\, ending c. 9:30pm (includes an interval) \nTickets £24 / £12 (under 25) \nPlease note that this concert takes place in the unique setting of our covered outdoor courtyard \nAll tickets are seated. \nFor info go to https://www.staplefordgranary.org.uk/whats-on/events/dixieland-courtyard-concert
URL:https://cambridge105.co.uk/event/enrico-tomassis-dixieland-all-stars-at-stapleford-granary/
LOCATION:Stapleford Granary\, Bury Road\, Stapleford\, CB22 5BP
END:VEVENT
END:VCALENDAR