BEGIN:VCALENDAR
VERSION:2.0
PRODID:-//Cambridge Radio - ECPv5.7.0//NONSGML v1.0//EN
CALSCALE:GREGORIAN
METHOD:PUBLISH
X-WR-CALNAME:Cambridge Radio
X-ORIGINAL-URL:https://cambridge105.co.uk
X-WR-CALDESC:Events for Cambridge Radio
BEGIN:VTIMEZONE
TZID:Europe/London
BEGIN:DAYLIGHT
TZOFFSETFROM:+0000
TZOFFSETTO:+0100
TZNAME:BST
DTSTART:20240331T010000
END:DAYLIGHT
BEGIN:STANDARD
TZOFFSETFROM:+0100
TZOFFSETTO:+0000
TZNAME:GMT
DTSTART:20241027T010000
END:STANDARD
END:VTIMEZONE
BEGIN:VEVENT
DTSTART;TZID=Europe/London:20240930T070000
DTEND;TZID=Europe/London:20240930T160000
DTSTAMP:20260422T170718
CREATED:20240930T084436Z
LAST-MODIFIED:20240930T084436Z
UID:93743-1727679600-1727712000@cambridge105.co.uk
SUMMARY:Ely Fireworks
DESCRIPTION:Ely Fireworks will take place on November 4th at Cherry Hill Park. The lighting of the bonfire is at 6.30pm and the fireworks start at 7pm. \nAdvance tickets\, in the form of wristbands\, priced at £8 for adults\, £4 for children\, and £20 for a family ticket (two adults and two children) (under-fives are free) are available from: \nEly Tourist Information Centre\, 29 St Mary’s Street\, Ely; Hive Leisure Centre\, Leisure Village\, Ely Fudge Company\, 31 Market Place; Toppings Bookshop\, 9 High Street\, Atrium Fitness\, 39 Newnham Street; Littleport Bargain Centre\, 9 Main Street\, Littleport; Jak Hibs\, 33 High Street\, Soham \nPlease note that payment at Ely Tourist Information Centre Hive Leisure Centre and Ely Fudge will be by card only\, and by cash only at the other named outlets. \nFor info go to https://www.huntspost.co.uk/news/23883312.fireworks-displays-cambridgeshire-year/
URL:https://cambridge105.co.uk/event/ely-fireworks/
LOCATION:Cherry Hill Park\, Ely
END:VEVENT
END:VCALENDAR