BEGIN:VCALENDAR
VERSION:2.0
PRODID:-//Cambridge Radio - ECPv5.7.0//NONSGML v1.0//EN
CALSCALE:GREGORIAN
METHOD:PUBLISH
X-WR-CALNAME:Cambridge Radio
X-ORIGINAL-URL:https://cambridge105.co.uk
X-WR-CALDESC:Events for Cambridge Radio
BEGIN:VTIMEZONE
TZID:Europe/London
BEGIN:DAYLIGHT
TZOFFSETFROM:+0000
TZOFFSETTO:+0100
TZNAME:BST
DTSTART:20260329T010000
END:DAYLIGHT
BEGIN:STANDARD
TZOFFSETFROM:+0100
TZOFFSETTO:+0000
TZNAME:GMT
DTSTART:20261025T010000
END:STANDARD
END:VTIMEZONE
BEGIN:VEVENT
DTSTART;VALUE=DATE:20260314
DTEND;VALUE=DATE:20260316
DTSTAMP:20260424T221648
CREATED:20260304T065320Z
LAST-MODIFIED:20260304T065449Z
UID:101181-1773450000-1773536399@cambridge105.co.uk
SUMMARY:Dvořák Requiem
DESCRIPTION:Dvořák’s Requiem is a towering musical statement that draws us into a world of mystery. Throughout the work\, Dvořák sets traditional liturgical text with his unmistakable melodic gift\, creating music that moves from sorrow to serenity\, from shadow to radiant light. \nThe choral writing is both dramatic and lyrical\, while the orchestra contributes richly coloured textures. \nSoloists step forward with poignant lines that feel more like operatic confessions than sacred recitations. The result is a Requiem that feels deeply human – filled with questioning and doubt\, and finally\, a glowing sense of peace. \nPerformed by: Cambridge Philharmonic Chorus/Cambridge Philharmonic Orchestra/Conductor: Harry Sever \nEsther Mallett: Soprano/Miranda Westcott: Mezzo-Soprano/Oliver Johnston: Tenor/Eugene Dillon-Hooper: Bass/Simon Hewitt-Jones : lead violin \nFrom 4.00  pm \nTickets –  0333 666 3366 l.org.uk \n£32\, £27\, £21\, £15 Student concessions £22\, £16\, £1 \nFor info go to https://www.westroad.org/whats-on/cambridgephil-dvorak-requiem-2603
URL:https://cambridge105.co.uk/event/dvorak-requiem/
LOCATION:West Road Concert Hall\, 11 West Road\, Cambridge\, Cambridgeshire\, CB3 9DP\, United Kingdom
END:VEVENT
END:VCALENDAR