BEGIN:VCALENDAR
VERSION:2.0
PRODID:-//Cambridge Radio - ECPv5.7.0//NONSGML v1.0//EN
CALSCALE:GREGORIAN
METHOD:PUBLISH
X-WR-CALNAME:Cambridge Radio
X-ORIGINAL-URL:https://cambridge105.co.uk
X-WR-CALDESC:Events for Cambridge Radio
BEGIN:VTIMEZONE
TZID:Europe/London
BEGIN:DAYLIGHT
TZOFFSETFROM:+0000
TZOFFSETTO:+0100
TZNAME:BST
DTSTART:20260329T010000
END:DAYLIGHT
BEGIN:STANDARD
TZOFFSETFROM:+0100
TZOFFSETTO:+0000
TZNAME:GMT
DTSTART:20261025T010000
END:STANDARD
END:VTIMEZONE
BEGIN:VEVENT
DTSTART;VALUE=DATE:20260314
DTEND;VALUE=DATE:20260316
DTSTAMP:20260422T205141
CREATED:20260226T092003Z
LAST-MODIFIED:20260226T093726Z
UID:101103-1773450000-1773536399@cambridge105.co.uk
SUMMARY:Disco Fever Revisited
DESCRIPTION:Taking place from 18:45 to 22:00 at Mill Road Community Centre\, 6 Hazell Street\, Cambridge CB1 2GN \nNow that you can safely come out of hibernation from the cold\, wet weather\, why not celebrate by strutting your stuff at a fund raising disco on behalf of the Arthur Rank Hospice Charity in Cambridge? Arthur Rank provides end-of-life and palliative care both at the hospice and in patients’ homes for those living in Cambridgeshire. It depends on continuing community financial support to deliver these vital services. \nCome and support this amazing cause. Absolute bangers guaranteed – no clangers! \nTicket price £10 plus booking fee via Eventbrite – \nFor info go to https://www.eventbrite.co.uk/e/disco-fever-revisited-tickets-1979988030499?aff=oddtdtcreator
URL:https://cambridge105.co.uk/event/disco-fever-revisited/
LOCATION:Mill Road Community Centre\, 6 Hazell Street\, Cambridge\, CB1 2GN
END:VEVENT
END:VCALENDAR