BEGIN:VCALENDAR
VERSION:2.0
PRODID:-//Cambridge Radio - ECPv5.7.0//NONSGML v1.0//EN
CALSCALE:GREGORIAN
METHOD:PUBLISH
X-WR-CALNAME:Cambridge Radio
X-ORIGINAL-URL:https://cambridge105.co.uk
X-WR-CALDESC:Events for Cambridge Radio
BEGIN:VTIMEZONE
TZID:Europe/London
BEGIN:DAYLIGHT
TZOFFSETFROM:+0000
TZOFFSETTO:+0100
TZNAME:BST
DTSTART:20260329T010000
END:DAYLIGHT
BEGIN:STANDARD
TZOFFSETFROM:+0100
TZOFFSETTO:+0000
TZNAME:GMT
DTSTART:20261025T010000
END:STANDARD
END:VTIMEZONE
BEGIN:VEVENT
DTSTART;VALUE=DATE:20260409
DTEND;VALUE=DATE:20260409
DTSTAMP:20260422T184840
CREATED:20260225T094527Z
LAST-MODIFIED:20260225T094637Z
UID:101092-1775692800-1775779199@cambridge105.co.uk
SUMMARY:Crafty Thursday at Stapleford Granary
DESCRIPTION:Spring is here\, and this Easter holiday there will be a jam packed Crafty Thursday! You’ll be making bunny ear headbands\, baby chicks and Easter egg decorations. Come along for a day full of fun! \nEach session lasts 60 minutes \n£4 per child (includes all materials) – suitable for age 3+. Parents / carers are free\, but must book a space for themselves along with the child ticket. \nThere is a booking system to avoid over-crowding. Due to space restrictions\, please limit bookings to one adult per child. Thank you. \nFor info go to https://www.staplefordgranary.org.uk/whats-on/events/crafty-thursday-easter
URL:https://cambridge105.co.uk/event/crafty-thursday-at-stapleford-granary-2/
LOCATION:Stapleford Granary\, Bury Road\, Stapleford\, CB22 5BP
END:VEVENT
END:VCALENDAR