BEGIN:VCALENDAR
VERSION:2.0
PRODID:-//Cambridge Radio - ECPv5.7.0//NONSGML v1.0//EN
CALSCALE:GREGORIAN
METHOD:PUBLISH
X-WR-CALNAME:Cambridge Radio
X-ORIGINAL-URL:https://cambridge105.co.uk
X-WR-CALDESC:Events for Cambridge Radio
BEGIN:VTIMEZONE
TZID:Europe/London
BEGIN:DAYLIGHT
TZOFFSETFROM:+0000
TZOFFSETTO:+0100
TZNAME:BST
DTSTART:20250330T010000
END:DAYLIGHT
BEGIN:STANDARD
TZOFFSETFROM:+0100
TZOFFSETTO:+0000
TZNAME:GMT
DTSTART:20251026T010000
END:STANDARD
END:VTIMEZONE
BEGIN:VEVENT
DTSTART;VALUE=DATE:20251122
DTEND;VALUE=DATE:20251125
DTSTAMP:20260424T104307
CREATED:20251027T063746Z
LAST-MODIFIED:20251027T063746Z
UID:99602-1763773200-1763945999@cambridge105.co.uk
SUMMARY:Christmas Fair at the Pitt Building
DESCRIPTION:Following the huge success of large year’s event\, the Pitt Building will once again be opening it’s doors and warmly inviting you to it’s annual Christmas Fair. \nThe festive event will feature over 20 Christmas stalls and take place on: \nSaturday 22nd November\, 10.00am – 4.30pm \nEntry is free. \nThe stalls will showcase work from fine independent suppliers and talented local craftspeople and will include handmade gifts\, candles\, prints\, cards\, ceramics\, soaps\, paper sculptures\, jewellery and much more. \nFor info go to https://www.cambridge.org/pittbuilding/whats-on?
URL:https://cambridge105.co.uk/event/christmas-fair-at-the-pitt-building/
LOCATION:The Pitt Building\, Trumpington Street\,\, Cambridge\, CB2 1RP\, United Kingdom
END:VEVENT
END:VCALENDAR