BEGIN:VCALENDAR
VERSION:2.0
PRODID:-//Cambridge Radio - ECPv5.7.0//NONSGML v1.0//EN
CALSCALE:GREGORIAN
METHOD:PUBLISH
X-WR-CALNAME:Cambridge Radio
X-ORIGINAL-URL:https://cambridge105.co.uk
X-WR-CALDESC:Events for Cambridge Radio
BEGIN:VTIMEZONE
TZID:Europe/London
BEGIN:DAYLIGHT
TZOFFSETFROM:+0000
TZOFFSETTO:+0100
TZNAME:BST
DTSTART:20250330T010000
END:DAYLIGHT
BEGIN:STANDARD
TZOFFSETFROM:+0100
TZOFFSETTO:+0000
TZNAME:GMT
DTSTART:20251026T010000
END:STANDARD
END:VTIMEZONE
BEGIN:VEVENT
DTSTART;VALUE=DATE:20251115
DTEND;VALUE=DATE:20251117
DTSTAMP:20260423T184526
CREATED:20251029T085957Z
LAST-MODIFIED:20251029T090102Z
UID:99618-1763168400-1763254799@cambridge105.co.uk
SUMMARY:Christmas at The Gog
DESCRIPTION:Meet the Producers – Christmas at The Gog\,  10am – 4pm | The Gog Farmshop\, Cambridge \nGet into the festive spirit early this year with ‘Meet the Producers – Christmas at The Gog’ a celebration of exceptional food\, drink and local craftsmanship. \nA day of tastings\, chats and festive cheer as some of favourite artisan producers  showcase their incredible products and share the stories behind them. From award-winning cheeses to fine wines\, handmade chocolates and more – it’s the perfect opportunity to discover new flavours and stock up your Christmas cupboards. \nExpect to meet a fantastic line-up of producers including Neal’s Yard Dairy\, Mons Cheese\, The Fine Cider Company\, FieldGoods\, Enotria Wines\, Chocolat Chocolat\, Wood St Coffee\, Spring Bone Broth\, Jake’s Chilli Jam\, The Fire Pit Co.\, and more!\nSip on a warming mulled wine\, sample festive delights and take time to chat with the people who make your favourite Gog products. It’s also the ideal chance to book your Christmas orders with the Deli and Butchery teams\, ensuring your festive feasts are sorted well in advance. \nThe Gog Farmshop\, Heath Farm\, Shelford Bottom\, Cambridge\, CB22 3AD \nFree entryFor more information\, visit thegog.com 
URL:https://cambridge105.co.uk/event/christmas-at-the-gog/
LOCATION:The Gog Farm Shop\, Heath Farm\, Shelford Bottom\, Cambridge\, CB22 3AD
END:VEVENT
END:VCALENDAR