BEGIN:VCALENDAR
VERSION:2.0
PRODID:-//Cambridge Radio - ECPv5.7.0//NONSGML v1.0//EN
CALSCALE:GREGORIAN
METHOD:PUBLISH
X-WR-CALNAME:Cambridge Radio
X-ORIGINAL-URL:https://cambridge105.co.uk
X-WR-CALDESC:Events for Cambridge Radio
BEGIN:VTIMEZONE
TZID:Europe/London
BEGIN:DAYLIGHT
TZOFFSETFROM:+0000
TZOFFSETTO:+0100
TZNAME:BST
DTSTART:20240331T010000
END:DAYLIGHT
BEGIN:STANDARD
TZOFFSETFROM:+0100
TZOFFSETTO:+0000
TZNAME:GMT
DTSTART:20241027T010000
END:STANDARD
END:VTIMEZONE
BEGIN:VEVENT
DTSTART;VALUE=DATE:20240629
DTEND;VALUE=DATE:20240629
DTSTAMP:20260422T074718
CREATED:20240628T073435Z
LAST-MODIFIED:20240628T073435Z
UID:92543-1719619200-1719705599@cambridge105.co.uk
SUMMARY:Chesterton Festival 2024
DESCRIPTION:A family-friendly fun day with something for everyone; stalls\, arts and crafts\, Fun Zone\, local musicians\, community Tug of War. ALl Welcome.
URL:https://cambridge105.co.uk/event/chesterton-festival-2024/
LOCATION:Chesterton Recreation Ground\, Church Street\, Chesterton\, CB4 1ED
END:VEVENT
END:VCALENDAR