BEGIN:VCALENDAR
VERSION:2.0
PRODID:-//Cambridge Radio - ECPv5.7.0//NONSGML v1.0//EN
CALSCALE:GREGORIAN
METHOD:PUBLISH
X-WR-CALNAME:Cambridge Radio
X-ORIGINAL-URL:https://cambridge105.co.uk
X-WR-CALDESC:Events for Cambridge Radio
BEGIN:VTIMEZONE
TZID:Europe/London
BEGIN:DAYLIGHT
TZOFFSETFROM:+0000
TZOFFSETTO:+0100
TZNAME:BST
DTSTART:20240331T010000
END:DAYLIGHT
BEGIN:STANDARD
TZOFFSETFROM:+0100
TZOFFSETTO:+0000
TZNAME:GMT
DTSTART:20241027T010000
END:STANDARD
END:VTIMEZONE
BEGIN:VEVENT
DTSTART;VALUE=DATE:20241203
DTEND;VALUE=DATE:20241205
DTSTAMP:20260422T214759
CREATED:20241018T082823Z
LAST-MODIFIED:20241018T082823Z
UID:94017-1733187600-1733273999@cambridge105.co.uk
SUMMARY:Carols with Cambridge University Brass
DESCRIPTION:To finish the term\, Cambridge University Brass Ensemble take to the stage to perform a variety of Christmas hits and medleys. They are joined by the Cambridge Festive Consort\, who will perform a variety of well-known carols\, alongside some enchanting and seldom heard Christmas pieces. \nPerformers – Chris Lawrence – Conductor\, Sam Gray – Conductor \nBox Office – Free admission with retiring donations gratefully received. \nTaking place at 1:10pm. \, Tuesday 3 December 2024 \nFor info go to https://www.westroad.org/whats-on/carols-2412
URL:https://cambridge105.co.uk/event/carols-with-cambridge-university-brass/
LOCATION:West Road Concert Hall\, 11 West Road\, Cambridge\, Cambridgeshire\, CB3 9DP\, United Kingdom
END:VEVENT
END:VCALENDAR