BEGIN:VCALENDAR
VERSION:2.0
PRODID:-//Cambridge Radio - ECPv5.7.0//NONSGML v1.0//EN
CALSCALE:GREGORIAN
METHOD:PUBLISH
X-WR-CALNAME:Cambridge Radio
X-ORIGINAL-URL:https://cambridge105.co.uk
X-WR-CALDESC:Events for Cambridge Radio
BEGIN:VTIMEZONE
TZID:Europe/London
BEGIN:DAYLIGHT
TZOFFSETFROM:+0000
TZOFFSETTO:+0100
TZNAME:BST
DTSTART:20250330T010000
END:DAYLIGHT
BEGIN:STANDARD
TZOFFSETFROM:+0100
TZOFFSETTO:+0000
TZNAME:GMT
DTSTART:20251026T010000
END:STANDARD
END:VTIMEZONE
BEGIN:VEVENT
DTSTART;VALUE=DATE:20251210
DTEND;VALUE=DATE:20251215
DTSTAMP:20260423T184518
CREATED:20251023T064456Z
LAST-MODIFIED:20251207T101653Z
UID:99531-1765328400-1765673999@cambridge105.co.uk
SUMMARY:Cambridge Winter Beer Festival
DESCRIPTION:In 1974\, the very first CAMRA Beer Festival took place at the Cambridge Corn Exchange… and they famously ran out of beer on the very first day! This December\, the Cambridge Winter Festival returns — and this time\, they’re making sure the taps don’t run dry. \n90+ real ales\, ciders and perries\, craft beer\, and international beer. Food available. \nAs part of the Corn Exchange’s 150th anniversary celebrations\, the Cambridge Winter Beer Festival is not just about great beer\, food and festivities — it’s also about honouring the story of this remarkable venue. \nDesigned by Victorian architect Richard Reynolds Rowe and built in 1875 from a quarter of a million local bricks\, the Corn Exchange first opened its doors as a place for farmers to trade corn. Over the last century and a half\, it has been at the very heart of Cambridge life: hosting motor shows\, revolutionary suffragette meetings\, Tea for a Thousand in 1935\, the cleaning and repair of rifles during the Second World War\, and later welcoming some of the biggest names in entertainment to its stage. \nEntrance is paid on the door (weekday 12-3pm free | weekday 5-10:30pm and Saturday whole day £5). There are no advance tickets. Last admission is 30 minutes before closing. Free entry for CAMRA members to all sessions. \nFor further information\, click here
URL:https://cambridge105.co.uk/event/cambridge-winter-beer-festival/
LOCATION:Cambridge Corn Exchange\, 2 Wheeler Street\, Cambridge\, Cambridgeshire\, CB2 3QB\, United Kingdom
END:VEVENT
END:VCALENDAR