BEGIN:VCALENDAR
VERSION:2.0
PRODID:-//Cambridge Radio - ECPv5.7.0//NONSGML v1.0//EN
CALSCALE:GREGORIAN
METHOD:PUBLISH
X-WR-CALNAME:Cambridge Radio
X-ORIGINAL-URL:https://cambridge105.co.uk
X-WR-CALDESC:Events for Cambridge Radio
BEGIN:VTIMEZONE
TZID:Europe/London
BEGIN:DAYLIGHT
TZOFFSETFROM:+0000
TZOFFSETTO:+0100
TZNAME:BST
DTSTART:20240331T010000
END:DAYLIGHT
BEGIN:STANDARD
TZOFFSETFROM:+0100
TZOFFSETTO:+0000
TZNAME:GMT
DTSTART:20241027T010000
END:STANDARD
END:VTIMEZONE
BEGIN:VEVENT
DTSTART;VALUE=DATE:20241203
DTEND;VALUE=DATE:20241205
DTSTAMP:20260423T201251
CREATED:20241018T083419Z
LAST-MODIFIED:20241018T083419Z
UID:94020-1733187600-1733273999@cambridge105.co.uk
SUMMARY:Cambridge University Wind Orchestra
DESCRIPTION:The Cambridge University Wind Orchestra will perform an enthralling programme featuring both modern masters and classical favourites. Cambridge University Wind Orchestra (CUWO) is a high-standard ensemble that performs a wide variety of works from concert band standards to popular film music and orchestral transcriptions. \nProgramme – Samuel Hazo – Exultate/ Bert Apperont – Jericho/ Holst – Ballet Suite/ Mozart – Serenade Gran Partita Stravinsky – Octet for Wind Instruments Philip Sparke – Year of the Dragon/ Frank Ticheli – Vesuvius/ Higgins – Christmas on Broadway \nIsaac Chan – Conductor \nTickets – £10 | Students and under-18s: £3.00. \nFor info go to https://www.westroad.org/whats-on/cuwo-2412
URL:https://cambridge105.co.uk/event/cambridge-university-wind-orchestra-2/
LOCATION:West Road Concert Hall\, 11 West Road\, Cambridge\, Cambridgeshire\, CB3 9DP\, United Kingdom
END:VEVENT
END:VCALENDAR