BEGIN:VCALENDAR
VERSION:2.0
PRODID:-//Cambridge Radio - ECPv5.7.0//NONSGML v1.0//EN
CALSCALE:GREGORIAN
METHOD:PUBLISH
X-WR-CALNAME:Cambridge Radio
X-ORIGINAL-URL:https://cambridge105.co.uk
X-WR-CALDESC:Events for Cambridge Radio
BEGIN:VTIMEZONE
TZID:Europe/London
BEGIN:DAYLIGHT
TZOFFSETFROM:+0000
TZOFFSETTO:+0100
TZNAME:BST
DTSTART:20260329T010000
END:DAYLIGHT
BEGIN:STANDARD
TZOFFSETFROM:+0100
TZOFFSETTO:+0000
TZNAME:GMT
DTSTART:20261025T010000
END:STANDARD
END:VTIMEZONE
BEGIN:VEVENT
DTSTART;VALUE=DATE:20260320
DTEND;VALUE=DATE:20260323
DTSTAMP:20260424T045549
CREATED:20260130T102745Z
LAST-MODIFIED:20260318T145329Z
UID:100774-1773968400-1774141199@cambridge105.co.uk
SUMMARY:Cambridge University Show Choir
DESCRIPTION:It’s CU Show Choir’s 15th birthday! \nCome along  for a night of celebration to hear your favourite songs from the past fifteen years. From chart-topping pop anthems to show-stopping musical theatre hits\, there’s something for everyone! Whether you’re an old friend or new to the choir family\, come along for an evening of nostalgic fun! \nThis production is suitable for ages 8 and over. Given the timing of the performance\, parental discretion is advised. \nTimes – Fri 20 March at 11:00pm/ Sat 21 March at 11:00pm \nTickets – £7.50–£11 \nFor info go to the box office.
URL:https://cambridge105.co.uk/event/cambridge-university-show-choir/
LOCATION:ADC  Theatre\, Park Street\, Cambridge\,  CB5 8AS
END:VEVENT
END:VCALENDAR