BEGIN:VCALENDAR
VERSION:2.0
PRODID:-//Cambridge Radio - ECPv5.7.0//NONSGML v1.0//EN
CALSCALE:GREGORIAN
METHOD:PUBLISH
X-WR-CALNAME:Cambridge Radio
X-ORIGINAL-URL:https://cambridge105.co.uk
X-WR-CALDESC:Events for Cambridge Radio
BEGIN:VTIMEZONE
TZID:Europe/London
BEGIN:DAYLIGHT
TZOFFSETFROM:+0000
TZOFFSETTO:+0100
TZNAME:BST
DTSTART:20250330T010000
END:DAYLIGHT
BEGIN:STANDARD
TZOFFSETFROM:+0100
TZOFFSETTO:+0000
TZNAME:GMT
DTSTART:20251026T010000
END:STANDARD
END:VTIMEZONE
BEGIN:VEVENT
DTSTART;VALUE=DATE:20250614
DTEND;VALUE=DATE:20250615
DTSTAMP:20260421T230010
CREATED:20250529T064105Z
LAST-MODIFIED:20250529T064153Z
UID:97842-1749859200-1750031999@cambridge105.co.uk
SUMMARY:Cambridge Town and Country Fair
DESCRIPTION:Taking place on Parker’s Piece from 10am to 5pm. \nThis much loved and popular family event takes place in the heart of Cambridge. All day entertainment will include birds of prey flying displays\, horse displays\, children’s entertainer\, historical re-enactment and much much more. Plus demonstrations of rural skills for you to enjoy. \nArts\, crafts food drink and gifts marquees as well as outside trade stands. \nFully catered & with a licensed bar \nWell behaved dogs on a lead welcome at this show\, but not in marquees with food please. \nFree entry.  Please note\, no parking is available. \nFor info go to www.charlieowenevents.co.uk
URL:https://cambridge105.co.uk/event/cambridge-town-country-fair/
LOCATION:Parkers Piece\, Parkside\, Cambridge\, Cambridgeshire\, CB2 1AA\, United Kingdom
END:VEVENT
END:VCALENDAR