BEGIN:VCALENDAR
VERSION:2.0
PRODID:-//Cambridge Radio - ECPv5.7.0//NONSGML v1.0//EN
CALSCALE:GREGORIAN
METHOD:PUBLISH
X-WR-CALNAME:Cambridge Radio
X-ORIGINAL-URL:https://cambridge105.co.uk
X-WR-CALDESC:Events for Cambridge Radio
BEGIN:VTIMEZONE
TZID:Europe/London
BEGIN:DAYLIGHT
TZOFFSETFROM:+0000
TZOFFSETTO:+0100
TZNAME:BST
DTSTART:20240331T010000
END:DAYLIGHT
BEGIN:STANDARD
TZOFFSETFROM:+0100
TZOFFSETTO:+0000
TZNAME:GMT
DTSTART:20241027T010000
END:STANDARD
END:VTIMEZONE
BEGIN:VEVENT
DTSTART;VALUE=DATE:20240705
DTEND;VALUE=DATE:20240731
DTSTAMP:20260422T191732
CREATED:20240620T062201Z
LAST-MODIFIED:20240712T171519Z
UID:92422-1720137600-1722470399@cambridge105.co.uk
SUMMARY:Cambridge Summer Music Festival
DESCRIPTION:Taking place all of July in many locations in and around the City\, the Cambridge Summer Music Festival presents a wide variety of music performances\, with 30 concerts in all. \nSome examples: \n5 July – Choir of Clare College at OLEM Catholic Church \n11 July – J.S. Bach\, St. John Passion at Trinity College Chapel \n14 July – Mozart\, The Magic Flute at Childerly Hall \n20 July – Young Composers Worksh0p at Churchill College’24 July \n24 July – Verdi Requiem at Ely Cathedral \n27 July – Festival Finale-A Mozart Celebration at Saffron Hall \nFor details of all the concerts go to cambridgesummermusic.com \n  \n 
URL:https://cambridge105.co.uk/event/cambridge-summer-music-festival/
LOCATION:Various\, Cambridge\, Cambridgeshire
END:VEVENT
END:VCALENDAR