BEGIN:VCALENDAR
VERSION:2.0
PRODID:-//Cambridge Radio - ECPv5.7.0//NONSGML v1.0//EN
CALSCALE:GREGORIAN
METHOD:PUBLISH
X-WR-CALNAME:Cambridge Radio
X-ORIGINAL-URL:https://cambridge105.co.uk
X-WR-CALDESC:Events for Cambridge Radio
BEGIN:VTIMEZONE
TZID:Europe/London
BEGIN:DAYLIGHT
TZOFFSETFROM:+0000
TZOFFSETTO:+0100
TZNAME:BST
DTSTART:20240331T010000
END:DAYLIGHT
BEGIN:STANDARD
TZOFFSETFROM:+0100
TZOFFSETTO:+0000
TZNAME:GMT
DTSTART:20241027T010000
END:STANDARD
END:VTIMEZONE
BEGIN:VEVENT
DTSTART;VALUE=DATE:20240708
DTEND;VALUE=DATE:20240824
DTSTAMP:20260422T113635
CREATED:20240811T162935Z
LAST-MODIFIED:20240811T163037Z
UID:93053-1720396800-1724543999@cambridge105.co.uk
SUMMARY:Cambridge Shakespeare Festival
DESCRIPTION:The Merry Wives of Windsor\n29 July – 24 August 2024\nEvery evening (except Sunday) at 7.30pm\nSt John’s College Gardens\n(entrance via Queen’s Road only) \nShakespeare’s brilliantly witty farce tells of a would-be seducer\, a jealous husband and two resourceful housewives in a hilarious battle of wits and wiles. Sir John Falstaff gets more than he bargained for when he simultaneously pursues two wealthy married women. Upon receiving identical copies of Falstaff’s love letter\, the spirited Mistresses Ford and Page cook up a scheme of their own to teach the fat knight a lesson\, with uproariously funny results. Don’t miss this sparkling production! \nRichard II\n29 July – 24 August 2024\nEvery evening (except Sunday) at 7.30pm\nTrinity College Gardens\n(entrance via Queen’s Road only) \nRichard II is a regal and stately monarch. He believes he is ordained by God\, yet he is a weak and ineffective king – wasteful in his spending habits\, unwise in his choice of counsellors\, and detached from his country and its people. When he seizes the land of his cousin Henry Bolingbroke\, both the commoners and the barons decide that their king has gone too far… This production reflects the play’s intense psychological struggle as well as a taut political drama. \nA Midsummer Night’s Dream\n29 July – 24 August 2024\nEvery evening (except Sunday) at 7.30pm\nKing’s College Gardens\n(entrance via Queen’s Road only) \nThe beautiful gardens of King’s College Fellows’ Garden form the perfect setting for Shakespeare’s delightful fairy-tale world of love\, jealousy and youthful exuberance. This captivating production brings to life all the magic and humour of Shakespeare’s best-loved play. Why not invite your children to come along dressed as fairies to add to what promises to be a spectacular evening!
URL:https://cambridge105.co.uk/event/cambridge-shakespeare-festival/
LOCATION:Cambridge
END:VEVENT
END:VCALENDAR