BEGIN:VCALENDAR
VERSION:2.0
PRODID:-//Cambridge Radio - ECPv5.7.0//NONSGML v1.0//EN
CALSCALE:GREGORIAN
METHOD:PUBLISH
X-WR-CALNAME:Cambridge Radio
X-ORIGINAL-URL:https://cambridge105.co.uk
X-WR-CALDESC:Events for Cambridge Radio
BEGIN:VTIMEZONE
TZID:Europe/London
BEGIN:DAYLIGHT
TZOFFSETFROM:+0000
TZOFFSETTO:+0100
TZNAME:BST
DTSTART:20250330T010000
END:DAYLIGHT
BEGIN:STANDARD
TZOFFSETFROM:+0100
TZOFFSETTO:+0000
TZNAME:GMT
DTSTART:20251026T010000
END:STANDARD
END:VTIMEZONE
BEGIN:VEVENT
DTSTART;TZID=Europe/London:20250118T160000
DTEND;TZID=Europe/London:20250118T180000
DTSTAMP:20260423T184531
CREATED:20241125T093848Z
LAST-MODIFIED:20250112T110543Z
UID:94519-1737216000-1737223200@cambridge105.co.uk
SUMMARY:Cambridge Philharmonic - Ode to Joy
DESCRIPTION:A glorious combination of one of Mozart’s best-loved works and the towering masterpiece that is Beethoven’s last symphony makes this a completely unmissable evening. Cambridge Philharmonic’s Music Director Harry Sever directs Mozart’s Piano Concerto in A Major from the keyboard – a work that sparkles with light\, laughter and love. \nBeethoven’s 9th Symphony – written when the composer was completely deaf – continues to stagger audiences and musicians alike with its bold colours\, epoch-defining scale and heart-breaking humanity: a symphonic journey like no other. \nThe work culminates in soloists and chorus declaiming words from Schiller’s An die freude (Ode to joy)\, a paeon to nature and friendship: “Be embraced\, all you millions! Share this kiss with all the world!” \nTickets: £15\, £20\, £25\, £30. Student concessions available. \nFor info go to West Road Box Office
URL:https://cambridge105.co.uk/event/cambridge-philharmonic-ode-to-joy/
LOCATION:West Road Concert Hall\, 11 West Road\, Cambridge\, Cambridgeshire\, CB3 9DP\, United Kingdom
END:VEVENT
END:VCALENDAR