BEGIN:VCALENDAR
VERSION:2.0
PRODID:-//Cambridge Radio - ECPv5.7.0//NONSGML v1.0//EN
CALSCALE:GREGORIAN
METHOD:PUBLISH
X-WR-CALNAME:Cambridge Radio
X-ORIGINAL-URL:https://cambridge105.co.uk
X-WR-CALDESC:Events for Cambridge Radio
BEGIN:VTIMEZONE
TZID:Europe/London
BEGIN:DAYLIGHT
TZOFFSETFROM:+0000
TZOFFSETTO:+0100
TZNAME:BST
DTSTART:20250330T010000
END:DAYLIGHT
BEGIN:STANDARD
TZOFFSETFROM:+0100
TZOFFSETTO:+0000
TZNAME:GMT
DTSTART:20251026T010000
END:STANDARD
END:VTIMEZONE
BEGIN:VEVENT
DTSTART;VALUE=DATE:20251213
DTEND;VALUE=DATE:20251215
DTSTAMP:20260423T191839
CREATED:20251211T073557Z
LAST-MODIFIED:20251211T073557Z
UID:100161-1765587600-1765673999@cambridge105.co.uk
SUMMARY:Cambridge Jazz Choir
DESCRIPTION:Lift your spirits with us this Christmas! \nCambridge Jazz Choir and  Cambourne Community Gospel Choir performing at St. Matthew’s Church in Cambridge. \nDoors 19:00 |  Music 19:30 \nTickets (including refreshments): £10 / £7 / Under 16s free at https://www.ticketsource.co.uk/cambridge-jazz-choir \nProceeds to support the work of @singinside — providing group singing workshops in prison\, enabling all to enjoy singing with others free from judgement. \n 
URL:https://cambridge105.co.uk/event/cambridge-jazz-choir-2/
LOCATION:St Matthews Church\, St Matthews Street\, Cambridge
END:VEVENT
END:VCALENDAR