BEGIN:VCALENDAR
VERSION:2.0
PRODID:-//Cambridge Radio - ECPv5.7.0//NONSGML v1.0//EN
CALSCALE:GREGORIAN
METHOD:PUBLISH
X-WR-CALNAME:Cambridge Radio
X-ORIGINAL-URL:https://cambridge105.co.uk
X-WR-CALDESC:Events for Cambridge Radio
BEGIN:VTIMEZONE
TZID:Europe/London
BEGIN:DAYLIGHT
TZOFFSETFROM:+0000
TZOFFSETTO:+0100
TZNAME:BST
DTSTART:20250330T010000
END:DAYLIGHT
BEGIN:STANDARD
TZOFFSETFROM:+0100
TZOFFSETTO:+0000
TZNAME:GMT
DTSTART:20251026T010000
END:STANDARD
END:VTIMEZONE
BEGIN:VEVENT
DTSTART;VALUE=DATE:20251129
DTEND;VALUE=DATE:20251201
DTSTAMP:20260424T045434
CREATED:20251012T064522Z
LAST-MODIFIED:20251012T064601Z
UID:99369-1764378000-1764464399@cambridge105.co.uk
SUMMARY:Cambridge Concert Orchestra - Scary and Fun
DESCRIPTION:3pm at Bottisham Village College\, A concert to raise funds for Action for Pulmonary Fibrosis \nCambridge Concert Orchestra – Scary… and Fun – A concert to raise funds for Action for Pulmonary Fibrosis \nProgramme will include Night on the Bare Mountain – Modest Mussorgsky (orch. Nicolai Rimsky-Korsakov)/ Psycho (suite for orchestra) – Bernard Herrmann/ Tubular Bells (opening theme) – Mike Oldfield (arr. for orch. Kevin Riley)/ Tom and Jerry (Blue Cat Blues) – Scott Bradley and more! \nBottisham Village College (Evans Auditorium)\, Lode Road\, Bottisham\, Cambridge CB25 9DL \nTickets: adults £12\, FREE for children \nOnline box office: cco.org.uk
URL:https://cambridge105.co.uk/event/cambridge-concert-orchestra-scary-and-fun/
LOCATION:Bottisham Village College\, Lode Road\, Bottisham\, CB25 9DL
END:VEVENT
END:VCALENDAR