BEGIN:VCALENDAR
VERSION:2.0
PRODID:-//Cambridge Radio - ECPv5.7.0//NONSGML v1.0//EN
CALSCALE:GREGORIAN
METHOD:PUBLISH
X-WR-CALNAME:Cambridge Radio
X-ORIGINAL-URL:https://cambridge105.co.uk
X-WR-CALDESC:Events for Cambridge Radio
BEGIN:VTIMEZONE
TZID:Europe/London
BEGIN:DAYLIGHT
TZOFFSETFROM:+0000
TZOFFSETTO:+0100
TZNAME:BST
DTSTART:20260329T010000
END:DAYLIGHT
BEGIN:STANDARD
TZOFFSETFROM:+0100
TZOFFSETTO:+0000
TZNAME:GMT
DTSTART:20261025T010000
END:STANDARD
END:VTIMEZONE
BEGIN:VEVENT
DTSTART;VALUE=DATE:20260123
DTEND;VALUE=DATE:20260125
DTSTAMP:20260422T165907
CREATED:20260115T094731Z
LAST-MODIFIED:20260115T094759Z
UID:100622-1769130000-1769216399@cambridge105.co.uk
SUMMARY:Cambourne Retro Video Game Night
DESCRIPTION:Taking place at The Hub in Cambourne from 7.00 pm to 11.00 pm. \nCome along for a blast from the past at Cambourne Retro Video Game Night – a fun-filled evening of classic gaming nostalgia! \nBecause there is a licensed bar (Courtesy of Lord Conrad’s Brewery) and some games may be of an adult nature this is an over-18s-only event. \nCome along and play the video game systems of yesteryear including Sega\, Nintendo\, Atari\, BBC Micro\, Commodore\, Sony\, and more! \nFor info go to https://www.eventbrite.com/e/cambourne-retro-video-game-night-tickets-1980374901641
URL:https://cambridge105.co.uk/event/cambourne-retro-video-game-night/
LOCATION:The Hub\, High Street\, Cambourne\,  CB23 6GW
END:VEVENT
END:VCALENDAR