BEGIN:VCALENDAR
VERSION:2.0
PRODID:-//Cambridge Radio - ECPv5.7.0//NONSGML v1.0//EN
CALSCALE:GREGORIAN
METHOD:PUBLISH
X-WR-CALNAME:Cambridge Radio
X-ORIGINAL-URL:https://cambridge105.co.uk
X-WR-CALDESC:Events for Cambridge Radio
BEGIN:VTIMEZONE
TZID:Europe/London
BEGIN:DAYLIGHT
TZOFFSETFROM:+0000
TZOFFSETTO:+0100
TZNAME:BST
DTSTART:20250330T010000
END:DAYLIGHT
BEGIN:STANDARD
TZOFFSETFROM:+0100
TZOFFSETTO:+0000
TZNAME:GMT
DTSTART:20251026T010000
END:STANDARD
END:VTIMEZONE
BEGIN:VEVENT
DTSTART;VALUE=DATE:20250705
DTEND;VALUE=DATE:20250705
DTSTAMP:20260424T072904
CREATED:20250622T143840Z
LAST-MODIFIED:20250622T143840Z
UID:98127-1751673600-1751759999@cambridge105.co.uk
SUMMARY:Burwell Carnival
DESCRIPTION:Carnival 2025 will on 5th July at Burwell Recreation Ground. This year’s parade theme will be Sport. \nAll profits go towards Burwell Carnival costs meaning we can give more funds out to Burwell Community groups. Last year we gave out over £5\,000 to more than 20 local groups. \nThe parade starts at 12:15pm at the top of The Causeway\, turning left into Hythe Lane and straight onto The Recreation Ground up to our stage area. \nOn the recreation ground we will have our Carnival bar\, fantastic entertainment from bands and dance groups\, fairground rides\, inflatables\, craft stalls and food vendors along with so much more to enjoy on-the-day. We have live music and performers throughout the afternoon and evening until 11pm. \nThe Carnival bar will be selling real ale from Burwell Brewery & cider from Spinney Abbey\, lager and Pimms by the jug/glasses\, along with wine\, Prosecco\, spirits & soft drinks. The Burwell Belles – WI will provide hot drinks & refreshments and there is also a wide choice of food vendors on the field. \nPlus\, a fantastic range of craft and community stalls.
URL:https://cambridge105.co.uk/event/burwell-carnival-2/
LOCATION:Burwell Recreation Ground\, Weir's Drove\, Burwell
CATEGORIES:Cambridge Radio Coverage
END:VEVENT
END:VCALENDAR