BEGIN:VCALENDAR
VERSION:2.0
PRODID:-//Cambridge Radio - ECPv5.7.0//NONSGML v1.0//EN
CALSCALE:GREGORIAN
METHOD:PUBLISH
X-WR-CALNAME:Cambridge Radio
X-ORIGINAL-URL:https://cambridge105.co.uk
X-WR-CALDESC:Events for Cambridge Radio
BEGIN:VTIMEZONE
TZID:Europe/London
BEGIN:DAYLIGHT
TZOFFSETFROM:+0000
TZOFFSETTO:+0100
TZNAME:BST
DTSTART:20240331T010000
END:DAYLIGHT
BEGIN:STANDARD
TZOFFSETFROM:+0100
TZOFFSETTO:+0000
TZNAME:GMT
DTSTART:20241027T010000
END:STANDARD
END:VTIMEZONE
BEGIN:VEVENT
DTSTART;VALUE=DATE:20240623
DTEND;VALUE=DATE:20240623
DTSTAMP:20260422T053656
CREATED:20240607T072156Z
LAST-MODIFIED:20240607T072156Z
UID:92231-1719100800-1719187199@cambridge105.co.uk
SUMMARY:Bourn Mill Open Day
DESCRIPTION:From  2-4.30pm \nBourn mill is the oldest surviving windmill in the country. Set in beautiful scenery\, it was built during the reign of King Henry VIII! \nDuring the summer the mill is opened and guides will show you how the mill works and tell you the history of this fascinating building. Not only can you see inside\, you can also have a go at the incredible task of turning the whole mill on its post – an amazing experience. \nThe mill is owned by local charity CambridgePPF and run by dedicated volunteers. \nTea and cakes available to purchase. \nMembers free\, non-members £4 adult\, £1 per child. \nLast tour is at 4pm. \nFor info go to https://www.cambridgeppf.org/Event/bourn-windmill-open-day-23jun2024
URL:https://cambridge105.co.uk/event/bourn-mill-open-day/
LOCATION:Bourn Post Mill\, Off the  Caxton Road\, Bourn\, CB23 2SU
END:VEVENT
END:VCALENDAR