BEGIN:VCALENDAR
VERSION:2.0
PRODID:-//Cambridge Radio - ECPv5.7.0//NONSGML v1.0//EN
CALSCALE:GREGORIAN
METHOD:PUBLISH
X-WR-CALNAME:Cambridge Radio
X-ORIGINAL-URL:https://cambridge105.co.uk
X-WR-CALDESC:Events for Cambridge Radio
BEGIN:VTIMEZONE
TZID:Europe/London
BEGIN:DAYLIGHT
TZOFFSETFROM:+0000
TZOFFSETTO:+0100
TZNAME:BST
DTSTART:20240331T010000
END:DAYLIGHT
BEGIN:STANDARD
TZOFFSETFROM:+0100
TZOFFSETTO:+0000
TZNAME:GMT
DTSTART:20241027T010000
END:STANDARD
END:VTIMEZONE
BEGIN:VEVENT
DTSTART;VALUE=DATE:20241220
DTEND;VALUE=DATE:20241222
DTSTAMP:20260424T104306
CREATED:20241018T085050Z
LAST-MODIFIED:20241018T085050Z
UID:94025-1734656400-1734742799@cambridge105.co.uk
SUMMARY:Boogie Wonderland Christmas Party
DESCRIPTION:The legendary club is back for one night only! \nReturning Boogie residents Just Glyn and Matt Bartle play classic 70s and 80s\, with a dash of 90s and plenty of Christmas crackers too. Plus Nightlife Karaoke in the upstairs bar. \nVenue – J1 (Club)\, 8pm -1am. \nPrice – £ 12.50 \nAge – Strictly 18+ \nFor info go to https://www.junction.co.uk/events/boogie-wonderland-christmas-party/
URL:https://cambridge105.co.uk/event/boogie-wonderland-christmas-party/
LOCATION:J1 at Cambridge Junction\, Clifton Way\, Cambridge\, CB1 7GX
END:VEVENT
END:VCALENDAR