BEGIN:VCALENDAR
VERSION:2.0
PRODID:-//Cambridge Radio - ECPv5.7.0//NONSGML v1.0//EN
CALSCALE:GREGORIAN
METHOD:PUBLISH
X-WR-CALNAME:Cambridge Radio
X-ORIGINAL-URL:https://cambridge105.co.uk
X-WR-CALDESC:Events for Cambridge Radio
BEGIN:VTIMEZONE
TZID:Europe/London
BEGIN:DAYLIGHT
TZOFFSETFROM:+0000
TZOFFSETTO:+0100
TZNAME:BST
DTSTART:20240331T010000
END:DAYLIGHT
BEGIN:STANDARD
TZOFFSETFROM:+0100
TZOFFSETTO:+0000
TZNAME:GMT
DTSTART:20241027T010000
END:STANDARD
END:VTIMEZONE
BEGIN:VEVENT
DTSTART;VALUE=DATE:20240923
DTEND;VALUE=DATE:20240928
DTSTAMP:20260422T151218
CREATED:20240721T081551Z
LAST-MODIFIED:20240924T214419Z
UID:92797-1727049600-1727567999@cambridge105.co.uk
SUMMARY:Bird Song
DESCRIPTION:Sebastian Faulks’s epic story of love and loss returns to the stage in a brand-new production\, marking the 30th anniversary of the international best-selling novel. \nA mesmerising story of one man’s journey through an all-consuming love affair into the horror of the First World War. Once seen never forgotten. \nStarring award-winning actor Max Bowden\, best known for this role of Ben Mitchell in EastEnders\, and produced by the award-winning Original Theatre (The Mirror Crack’d by Agatha Christie\, Murder in the Dark and The Habit of Art). \nAge Guidance – 14+ \nMonday – Saturday\, 7.30pm and Thursday & Saturday\, 2.30pm: \nTickets – £20/£25/£35/£40.  All ticket prices include a £3 per ticket booking fee \nFor info go to BIRDSONG | Cambridge Arts Theatre \n 
URL:https://cambridge105.co.uk/event/bird-song/
LOCATION:Cambridge Arts Theatre\, 6 St. Andrews Passage\, Cambridge\, Cambridgeshire\, CB2 3PJ
END:VEVENT
END:VCALENDAR