BEGIN:VCALENDAR
VERSION:2.0
PRODID:-//Cambridge Radio - ECPv5.7.0//NONSGML v1.0//EN
CALSCALE:GREGORIAN
METHOD:PUBLISH
X-WR-CALNAME:Cambridge Radio
X-ORIGINAL-URL:https://cambridge105.co.uk
X-WR-CALDESC:Events for Cambridge Radio
BEGIN:VTIMEZONE
TZID:Europe/London
BEGIN:DAYLIGHT
TZOFFSETFROM:+0000
TZOFFSETTO:+0100
TZNAME:BST
DTSTART:20240331T010000
END:DAYLIGHT
BEGIN:STANDARD
TZOFFSETFROM:+0100
TZOFFSETTO:+0000
TZNAME:GMT
DTSTART:20241027T010000
END:STANDARD
END:VTIMEZONE
BEGIN:VEVENT
DTSTART;VALUE=DATE:20240921
DTEND;VALUE=DATE:20240921
DTSTAMP:20260422T151603
CREATED:20240723T071540Z
LAST-MODIFIED:20240723T071635Z
UID:92807-1726876800-1726963199@cambridge105.co.uk
SUMMARY:Big Stand  Up Night 2024
DESCRIPTION:A wide variety of performers ‘ \nKacper Ruciński\nA master of sharp wit and clever humor. Get ready for a performance that will leave you in stitches. \nWiolka Walaszczyk\nKnown for her unique style and hilarious storytelling. She brings a fresh perspective to the stage. \nAdam Van Bendler\nA comedic genius with a knack for observational humor. His jokes are sure to resonate with everyone. \nCzarek Sikora\nRenowned for his energetic and engaging performances. He always keeps the audience laughing and entertained. \nTomek Skrzypek\nHis quick humor and clever punchlines are unforgettable. A rising star in the stand-up comedy scene. \nPaweł Chałupka\nFamous for his relatable and down-to-earth comedy. His performances are a guaranteed good time. \nTickets- £39.00 to £65.00 \nFor info go to Big Stand-up Night 2024 | West Road Concert Hall
URL:https://cambridge105.co.uk/event/big-stand-up-night-2024/
LOCATION:West Road Concert Hall\, 11 West Road\, Cambridge\, Cambridgeshire\, CB3 9DP\, United Kingdom
END:VEVENT
END:VCALENDAR