BEGIN:VCALENDAR
VERSION:2.0
PRODID:-//Cambridge Radio - ECPv5.7.0//NONSGML v1.0//EN
CALSCALE:GREGORIAN
METHOD:PUBLISH
X-WR-CALNAME:Cambridge Radio
X-ORIGINAL-URL:https://cambridge105.co.uk
X-WR-CALDESC:Events for Cambridge Radio
BEGIN:VTIMEZONE
TZID:Europe/London
BEGIN:DAYLIGHT
TZOFFSETFROM:+0000
TZOFFSETTO:+0100
TZNAME:BST
DTSTART:20240331T010000
END:DAYLIGHT
BEGIN:STANDARD
TZOFFSETFROM:+0100
TZOFFSETTO:+0000
TZNAME:GMT
DTSTART:20241027T010000
END:STANDARD
END:VTIMEZONE
BEGIN:VEVENT
DTSTART;TZID=Europe/London:20240701T070000
DTEND;TZID=Europe/London:20240701T160000
DTSTAMP:20260422T094307
CREATED:20240624T062828Z
LAST-MODIFIED:20240624T062828Z
UID:92496-1719817200-1719849600@cambridge105.co.uk
SUMMARY:Betty Ray: Painting for Well-being
DESCRIPTION:A celebration of the life and art of Betty Ray\, Mother of Histon resident Les Ray.with live music by Red Velvet culminating in an auction of around 30 of Betty’s works. \nPaintings Preview 2.30-4.30pm\, Auction from 7.30-9.30pm\nEntry free – welcome drinks from 7.15pm\nSt Andrews Centre\, Histon. \nPaintings preview: https://feast.hisimp.com/ \n  \nTo donate to CPSL Mind: go to https://www.justgiving.com/page/betty-ray-for-cpslmind
URL:https://cambridge105.co.uk/event/betty-ray-painting-for-well-being/
LOCATION:St Andrews Centre\, School Hill\, Histon\,  CB24 9JE
END:VEVENT
END:VCALENDAR