BEGIN:VCALENDAR
VERSION:2.0
PRODID:-//Cambridge Radio - ECPv5.7.0//NONSGML v1.0//EN
CALSCALE:GREGORIAN
METHOD:PUBLISH
X-WR-CALNAME:Cambridge Radio
X-ORIGINAL-URL:https://cambridge105.co.uk
X-WR-CALDESC:Events for Cambridge Radio
BEGIN:VTIMEZONE
TZID:Europe/London
BEGIN:DAYLIGHT
TZOFFSETFROM:+0000
TZOFFSETTO:+0100
TZNAME:BST
DTSTART:20250330T010000
END:DAYLIGHT
BEGIN:STANDARD
TZOFFSETFROM:+0100
TZOFFSETTO:+0000
TZNAME:GMT
DTSTART:20251026T010000
END:STANDARD
END:VTIMEZONE
BEGIN:VEVENT
DTSTART;VALUE=DATE:20250830
DTEND;VALUE=DATE:20250831
DTSTAMP:20260424T090249
CREATED:20250612T070638Z
LAST-MODIFIED:20250612T070747Z
UID:97986-1756512000-1756684799@cambridge105.co.uk
SUMMARY:Ancient Oak Fayre
DESCRIPTION:Taking place at Quy Country Park \n Gates open at 10.00am\, first act starts at 10.30am  and the event ends at 5.30pm \nHorsemen of the Knight are a team of professional stunt riders – regularly working in the Film and TV industry on productions such as; Game of Thrones\, ITV’s Beowulf\, TV’s Merlin\, King Arthur\, War Horse\, Peaky Blinders\, Sherlock Holmes\, Guy Richie’s King Arthur film\, Victor Frankenstein and many many more credits are too long to list! \nAt Ancient Oak Fayre you will see Horsemen of the Knight perform a variety of stunts\, tricks and\, of course\, jousting. \nThere will also be a market with many craft stalls and also a Fairy Glade. \nFor all the details go to Ancient Oak Fayre
URL:https://cambridge105.co.uk/event/ancient-oak-fayre/
LOCATION:Quy Country Park\, Stow Road\, Stow Cum Quy\, CB25 9AF
END:VEVENT
END:VCALENDAR