BEGIN:VCALENDAR
VERSION:2.0
PRODID:-//Cambridge Radio - ECPv5.7.0//NONSGML v1.0//EN
CALSCALE:GREGORIAN
METHOD:PUBLISH
X-WR-CALNAME:Cambridge Radio
X-ORIGINAL-URL:https://cambridge105.co.uk
X-WR-CALDESC:Events for Cambridge Radio
BEGIN:VTIMEZONE
TZID:Europe/London
BEGIN:DAYLIGHT
TZOFFSETFROM:+0000
TZOFFSETTO:+0100
TZNAME:BST
DTSTART:20250330T010000
END:DAYLIGHT
BEGIN:STANDARD
TZOFFSETFROM:+0100
TZOFFSETTO:+0000
TZNAME:GMT
DTSTART:20251026T010000
END:STANDARD
END:VTIMEZONE
BEGIN:VEVENT
DTSTART;VALUE=DATE:20250306
DTEND;VALUE=DATE:20250308
DTSTAMP:20260423T184526
CREATED:20250113T092052Z
LAST-MODIFIED:20250113T092052Z
UID:95320-1741222800-1741309199@cambridge105.co.uk
SUMMARY:Al Murray - The Pub Landlord
DESCRIPTION:The people have spoken! The Pub Landlord is back for another round of Guv Island in 2025. \n“Country\, the UK\, lost its way\, seeks life partner/mentor/inspiration. Good sense of humour essential. No time wasters\, tedious show-offs or offend-o-trons need apply. HR free zone.” \nStanding up so you don’t have to take it lying it down anymore\, the Pub Landlord is back to make sense of the questions you probably already had the answers to. You know what they say: There’s no school like the old school\, with the dodgy overflowing toilets. \nTime – 19:30 \nCost – £33.00 (Including booking fee). \nFor info go to https://www.cornex.co.uk/events/al-murray
URL:https://cambridge105.co.uk/event/al-murray-the-pub-landlord/
LOCATION:Cambridge Corn Exchange\, 2 Wheeler Street\, Cambridge\, Cambridgeshire\, CB2 3QB\, United Kingdom
END:VEVENT
END:VCALENDAR