BEGIN:VCALENDAR
VERSION:2.0
PRODID:-//Cambridge Radio - ECPv5.7.0//NONSGML v1.0//EN
CALSCALE:GREGORIAN
METHOD:PUBLISH
X-WR-CALNAME:Cambridge Radio
X-ORIGINAL-URL:https://cambridge105.co.uk
X-WR-CALDESC:Events for Cambridge Radio
BEGIN:VTIMEZONE
TZID:Europe/London
BEGIN:DAYLIGHT
TZOFFSETFROM:+0000
TZOFFSETTO:+0100
TZNAME:BST
DTSTART:20250330T010000
END:DAYLIGHT
BEGIN:STANDARD
TZOFFSETFROM:+0100
TZOFFSETTO:+0000
TZNAME:GMT
DTSTART:20251026T010000
END:STANDARD
END:VTIMEZONE
BEGIN:VEVENT
DTSTART;VALUE=DATE:20250607
DTEND;VALUE=DATE:20250607
DTSTAMP:20260424T115050
CREATED:20250527T083044Z
LAST-MODIFIED:20250527T083044Z
UID:97819-1749254400-1749340799@cambridge105.co.uk
SUMMARY:Africa UK Pageant and Empowerment Programme
DESCRIPTION:Sparkle of Hope & Africa UK Pageant and Empowerment Programmes Present: Wellness\, Empowerment & Sashing Ceremony. \nCome along to  Novotel Cambridge North\, for an inspiring evening of wellness\, empowerment\, and celebration as the Mr\, Miss or Mrs Africa UK 2025 finalists are  crowned  ! This event will feature:  Wellness Sessions – Recharge your mind and body/ Empowerment Talks – Gain insights from inspiring speakers/  Sashing Ceremony – Witness the dazzling crowning of the finalists. \nFor more information\, please contact Ashleigh 07393387367 or Yanela 07861759671.
URL:https://cambridge105.co.uk/event/africa-uk-pageant-and-empowerment-programme/
LOCATION:Novotel\, 2 Cambridge Sq\, Cambridge\, CB4 0AE
END:VEVENT
END:VCALENDAR