BEGIN:VCALENDAR
VERSION:2.0
PRODID:-//Cambridge Radio - ECPv5.7.0//NONSGML v1.0//EN
CALSCALE:GREGORIAN
METHOD:PUBLISH
X-WR-CALNAME:Cambridge Radio
X-ORIGINAL-URL:https://cambridge105.co.uk
X-WR-CALDESC:Events for Cambridge Radio
BEGIN:VTIMEZONE
TZID:Europe/London
BEGIN:DAYLIGHT
TZOFFSETFROM:+0000
TZOFFSETTO:+0100
TZNAME:BST
DTSTART:20240331T010000
END:DAYLIGHT
BEGIN:STANDARD
TZOFFSETFROM:+0100
TZOFFSETTO:+0000
TZNAME:GMT
DTSTART:20241027T010000
END:STANDARD
END:VTIMEZONE
BEGIN:VEVENT
DTSTART;VALUE=DATE:20241018
DTEND;VALUE=DATE:20241018
DTSTAMP:20260424T064918
CREATED:20240827T090734Z
LAST-MODIFIED:20240827T090821Z
UID:93196-1729209600-1729295999@cambridge105.co.uk
SUMMARY:Adam Ant at Cambridge Corn Exchange
DESCRIPTION:Pop icon\, Adam Ant performing his classic chart-topping hits and personal favourites\, \n“ I’m really looking forward to the thrills and spills of playing live\, again . . there’s nothing like it ! “ \nTickets – Tickets: £50.50.  All tickets include a £3 booking fee. \nFor info go to Adam Ant | Cambridge Live
URL:https://cambridge105.co.uk/event/adam-ant-at-cambridge-corn-exchange/
LOCATION:Cambridge Corn Exchange\, 2 Wheeler Street\, Cambridge\, Cambridgeshire\, CB2 3QB\, United Kingdom
END:VEVENT
END:VCALENDAR