BEGIN:VCALENDAR
VERSION:2.0
PRODID:-//Cambridge Radio - ECPv5.7.0//NONSGML v1.0//EN
CALSCALE:GREGORIAN
METHOD:PUBLISH
X-WR-CALNAME:Cambridge Radio
X-ORIGINAL-URL:https://cambridge105.co.uk
X-WR-CALDESC:Events for Cambridge Radio
BEGIN:VTIMEZONE
TZID:Europe/London
BEGIN:DAYLIGHT
TZOFFSETFROM:+0000
TZOFFSETTO:+0100
TZNAME:BST
DTSTART:20250330T010000
END:DAYLIGHT
BEGIN:STANDARD
TZOFFSETFROM:+0100
TZOFFSETTO:+0000
TZNAME:GMT
DTSTART:20251026T010000
END:STANDARD
END:VTIMEZONE
BEGIN:VEVENT
DTSTART;VALUE=DATE:20251207
DTEND;VALUE=DATE:20251209
DTSTAMP:20260424T141655
CREATED:20251203T073001Z
LAST-MODIFIED:20251203T084109Z
UID:100064-1765069200-1765155599@cambridge105.co.uk
SUMMARY:A Very Hathi Christmas
DESCRIPTION:Three local bands perform at The Six Six pub this Sunday.  Colonel Hathi\, plus The Insurance Men and The Mayfields. \nDoors open at 7.00 pm. \nThree bands for £7 plus 70p booking fee.  £10 on the door.  \nFor info go to www. thesixsixbars.com
URL:https://cambridge105.co.uk/event/a-very-hathi-christmas/
LOCATION:The Six Six Bar\, 170 East Road\, Cambridge\, CB1 1DB
END:VEVENT
END:VCALENDAR